BEGIN:VCALENDAR
VERSION:2.0
PRODID:-//jEvents 2.0 for Joomla//EN
CALSCALE:GREGORIAN
METHOD:PUBLISH
BEGIN:VTIMEZONE
TZID:Europe/London
BEGIN:STANDARD
DTSTART:20241027T010000
RDATE:20250330T020000
TZOFFSETFROM:+0100
TZOFFSETTO:+0000
TZNAME:Europe/London GMT
END:STANDARD
BEGIN:STANDARD
DTSTART:20251026T010000
RDATE:20260329T020000
TZOFFSETFROM:+0100
TZOFFSETTO:+0000
TZNAME:Europe/London GMT
END:STANDARD
BEGIN:STANDARD
DTSTART:20261025T010000
RDATE:20270328T020000
TZOFFSETFROM:+0100
TZOFFSETTO:+0000
TZNAME:Europe/London GMT
END:STANDARD
BEGIN:STANDARD
DTSTART:20271031T010000
RDATE:20280326T020000
TZOFFSETFROM:+0100
TZOFFSETTO:+0000
TZNAME:Europe/London GMT
END:STANDARD
BEGIN:STANDARD
DTSTART:20281029T010000
RDATE:20290325T020000
TZOFFSETFROM:+0100
TZOFFSETTO:+0000
TZNAME:Europe/London GMT
END:STANDARD
BEGIN:STANDARD
DTSTART:20291028T010000
RDATE:20300331T020000
TZOFFSETFROM:+0100
TZOFFSETTO:+0000
TZNAME:Europe/London GMT
END:STANDARD
BEGIN:STANDARD
DTSTART:20301027T010000
RDATE:20310330T020000
TZOFFSETFROM:+0100
TZOFFSETTO:+0000
TZNAME:Europe/London GMT
END:STANDARD
BEGIN:STANDARD
DTSTART:20311026T010000
RDATE:20320328T020000
TZOFFSETFROM:+0100
TZOFFSETTO:+0000
TZNAME:Europe/London GMT
END:STANDARD
BEGIN:DAYLIGHT
DTSTART:20240813T200000
RDATE:20241027T010000
TZOFFSETFROM:+0000
TZOFFSETTO:+0100
TZNAME:Europe/London BST
END:DAYLIGHT
BEGIN:DAYLIGHT
DTSTART:20250330T020000
RDATE:20251026T010000
TZOFFSETFROM:+0000
TZOFFSETTO:+0100
TZNAME:Europe/London BST
END:DAYLIGHT
BEGIN:DAYLIGHT
DTSTART:20260329T020000
RDATE:20261025T010000
TZOFFSETFROM:+0000
TZOFFSETTO:+0100
TZNAME:Europe/London BST
END:DAYLIGHT
BEGIN:DAYLIGHT
DTSTART:20270328T020000
RDATE:20271031T010000
TZOFFSETFROM:+0000
TZOFFSETTO:+0100
TZNAME:Europe/London BST
END:DAYLIGHT
BEGIN:DAYLIGHT
DTSTART:20280326T020000
RDATE:20281029T010000
TZOFFSETFROM:+0000
TZOFFSETTO:+0100
TZNAME:Europe/London BST
END:DAYLIGHT
BEGIN:DAYLIGHT
DTSTART:20290325T020000
RDATE:20291028T010000
TZOFFSETFROM:+0000
TZOFFSETTO:+0100
TZNAME:Europe/London BST
END:DAYLIGHT
BEGIN:DAYLIGHT
DTSTART:20300331T020000
RDATE:20301027T010000
TZOFFSETFROM:+0000
TZOFFSETTO:+0100
TZNAME:Europe/London BST
END:DAYLIGHT
BEGIN:DAYLIGHT
DTSTART:20310330T020000
RDATE:20311026T010000
TZOFFSETFROM:+0000
TZOFFSETTO:+0100
TZNAME:Europe/London BST
END:DAYLIGHT
END:VTIMEZONE
BEGIN:VEVENT
UID:d6d49a2e90d205b42efb369a9b8f2b02
CATEGORIES:Secção de Escalada
CREATED:20250424T164650
SUMMARY:Festas da Cidade e do XII Encontro Interassociativo
LOCATION:Largo do Cantenário - Valongo
DESCRIPTION:Mais uma participação nas Festas da Cidade e do XII Encontro Interassociati
 vo a realizar-se no Largo do Centenário em Valongo.\nEvento promovido pela 
 Junta de Freguesia de Valongo com o Município de Valongo.\nPossibilidade pa
 ra experimentar com o nosso Clibe escalada em parede artificial (gratuito)\
 n
X-ALT-DESC;FMTTYPE=text/html:<p>Mais uma participação nas Festas da Cidade e do XII Encontro Interassoci
 ativo a realizar-se no Largo do Centenário em Valongo.</p><p>Evento promovi
 do pela Junta de Freguesia de Valongo com o Município de Valongo.</p><p>Pos
 sibilidade para experimentar com o nosso Clibe escalada em parede artificia
 l (gratuito)</p>
CONTACT:Este endereço de email está protegido contra piratas. Necessita ativar o JavaScript para o visualizar.
				document.getElementById('cloak43e4dc8484ee48735607ad2005669035').innerHTML = '';
				var prefix = '&#109;a' + 'i&#108;' + '&#116;o';
				var path = 'hr' + 'ef' + '=';
				var addy43e4dc8484ee48735607ad2005669035 = '&#101;sc&#97;l&#97;d&#97;' + '&#64;';
				addy43e4dc8484ee48735607ad2005669035 = addy43e4dc8484ee48735607ad2005669035 + '&#97;lt&#111;r&#101;l&#101;v&#111;' + '&#46;' + '&#111;rg';
				var addy_text43e4dc8484ee48735607ad2005669035 = '&#101;sc&#97;l&#97;d&#97;' + '&#64;' + '&#97;lt&#111;r&#101;l&#101;v&#111;' + '&#46;' + '&#111;rg';document.getElementById('cloak43e4dc8484ee48735607ad2005669035').innerHTML += '<a ' + path + '\'' + prefix + ':' + addy43e4dc8484ee48735607ad2005669035 + '\'>'+addy_text43e4dc8484ee48735607ad2005669035+'';
		
X-EXTRAINFO:.
DTSTAMP:20260420T070310
DTSTART;TZID=Europe/London:20250814T200000
DTEND;TZID=Europe/London:20250818T000000
SEQUENCE:0
TRANSP:OPAQUE
END:VEVENT
END:VCALENDAR