BEGIN:VCALENDAR
VERSION:2.0
PRODID:-//jEvents 2.0 for Joomla//EN
CALSCALE:GREGORIAN
METHOD:PUBLISH
BEGIN:VTIMEZONE
TZID:Europe/London
BEGIN:STANDARD
DTSTART:20251026T010000
RDATE:20260329T020000
TZOFFSETFROM:+0100
TZOFFSETTO:+0000
TZNAME:Europe/London GMT
END:STANDARD
BEGIN:STANDARD
DTSTART:20261025T010000
RDATE:20270328T020000
TZOFFSETFROM:+0100
TZOFFSETTO:+0000
TZNAME:Europe/London GMT
END:STANDARD
BEGIN:STANDARD
DTSTART:20271031T010000
RDATE:20280326T020000
TZOFFSETFROM:+0100
TZOFFSETTO:+0000
TZNAME:Europe/London GMT
END:STANDARD
BEGIN:STANDARD
DTSTART:20281029T010000
RDATE:20290325T020000
TZOFFSETFROM:+0100
TZOFFSETTO:+0000
TZNAME:Europe/London GMT
END:STANDARD
BEGIN:STANDARD
DTSTART:20291028T010000
RDATE:20300331T020000
TZOFFSETFROM:+0100
TZOFFSETTO:+0000
TZNAME:Europe/London GMT
END:STANDARD
BEGIN:STANDARD
DTSTART:20301027T010000
RDATE:20310330T020000
TZOFFSETFROM:+0100
TZOFFSETTO:+0000
TZNAME:Europe/London GMT
END:STANDARD
BEGIN:STANDARD
DTSTART:20311026T010000
RDATE:20320328T020000
TZOFFSETFROM:+0100
TZOFFSETTO:+0000
TZNAME:Europe/London GMT
END:STANDARD
BEGIN:DAYLIGHT
DTSTART:20251002T000000
RDATE:20251026T010000
TZOFFSETFROM:+0000
TZOFFSETTO:+0100
TZNAME:Europe/London BST
END:DAYLIGHT
BEGIN:DAYLIGHT
DTSTART:20260329T020000
RDATE:20261025T010000
TZOFFSETFROM:+0000
TZOFFSETTO:+0100
TZNAME:Europe/London BST
END:DAYLIGHT
BEGIN:DAYLIGHT
DTSTART:20270328T020000
RDATE:20271031T010000
TZOFFSETFROM:+0000
TZOFFSETTO:+0100
TZNAME:Europe/London BST
END:DAYLIGHT
BEGIN:DAYLIGHT
DTSTART:20280326T020000
RDATE:20281029T010000
TZOFFSETFROM:+0000
TZOFFSETTO:+0100
TZNAME:Europe/London BST
END:DAYLIGHT
BEGIN:DAYLIGHT
DTSTART:20290325T020000
RDATE:20291028T010000
TZOFFSETFROM:+0000
TZOFFSETTO:+0100
TZNAME:Europe/London BST
END:DAYLIGHT
BEGIN:DAYLIGHT
DTSTART:20300331T020000
RDATE:20301027T010000
TZOFFSETFROM:+0000
TZOFFSETTO:+0100
TZNAME:Europe/London BST
END:DAYLIGHT
BEGIN:DAYLIGHT
DTSTART:20310330T020000
RDATE:20311026T010000
TZOFFSETFROM:+0000
TZOFFSETTO:+0100
TZNAME:Europe/London BST
END:DAYLIGHT
END:VTIMEZONE
BEGIN:VEVENT
UID:69f47f64a8be02e5e2bedf785348a134
CATEGORIES:Secção de Espeleologia
CREATED:20260108T105534
SUMMARY:Curso de Espeleologia N2 ARCM - 2026
LOCATION:Valongo e PNSAC
DESCRIPTION:Curso de Iniciação à Espeleologia (N2) - Homologado pela Federação Portugue
 sa de Espeleologia - APD\n
X-ALT-DESC;FMTTYPE=text/html:<p>Curso de Iniciação à Espeleologia (N2) - Homologado pela Federação Portu
 guesa de Espeleologia - APD</p>
CONTACT:Este endereço de email está protegido contra piratas. Necessita ativar o JavaScript para o visualizar.
				document.getElementById('cloakb6ee1251682e9b7655eac309a9c5aad7').innerHTML = '';
				var prefix = '&#109;a' + 'i&#108;' + '&#116;o';
				var path = 'hr' + 'ef' + '=';
				var addyb6ee1251682e9b7655eac309a9c5aad7 = '&#101;sp&#101;l&#101;&#111;l&#111;g&#105;&#97;' + '&#64;';
				addyb6ee1251682e9b7655eac309a9c5aad7 = addyb6ee1251682e9b7655eac309a9c5aad7 + '&#97;lt&#111;rl&#101;v&#111;' + '&#46;' + '&#111;rg';
				var addy_textb6ee1251682e9b7655eac309a9c5aad7 = '&#101;sp&#101;l&#101;&#111;l&#111;g&#105;&#97;' + '&#64;' + '&#97;lt&#111;rl&#101;v&#111;' + '&#46;' + '&#111;rg';document.getElementById('cloakb6ee1251682e9b7655eac309a9c5aad7').innerHTML += '<a ' + path + '\'' + prefix + ':' + addyb6ee1251682e9b7655eac309a9c5aad7 + '\'>'+addy_textb6ee1251682e9b7655eac309a9c5aad7+'';
		
X-EXTRAINFO:.
DTSTAMP:20260420T023339
DTSTART;TZID=Europe/London;VALUE=DATE:20261003
DTEND;TZID=Europe/London;VALUE=DATE:20261005
SEQUENCE:0
TRANSP:OPAQUE
END:VEVENT
END:VCALENDAR