BEGIN:VCALENDAR
VERSION:2.0
PRODID:-//jEvents 2.0 for Joomla//EN
CALSCALE:GREGORIAN
METHOD:PUBLISH
BEGIN:VTIMEZONE
TZID:Europe/London
BEGIN:STANDARD
DTSTART:20251026T010000
RDATE:20260329T020000
TZOFFSETFROM:+0100
TZOFFSETTO:+0000
TZNAME:Europe/London GMT
END:STANDARD
BEGIN:STANDARD
DTSTART:20261025T010000
RDATE:20270328T020000
TZOFFSETFROM:+0100
TZOFFSETTO:+0000
TZNAME:Europe/London GMT
END:STANDARD
BEGIN:STANDARD
DTSTART:20271031T010000
RDATE:20280326T020000
TZOFFSETFROM:+0100
TZOFFSETTO:+0000
TZNAME:Europe/London GMT
END:STANDARD
BEGIN:STANDARD
DTSTART:20281029T010000
RDATE:20290325T020000
TZOFFSETFROM:+0100
TZOFFSETTO:+0000
TZNAME:Europe/London GMT
END:STANDARD
BEGIN:STANDARD
DTSTART:20291028T010000
RDATE:20300331T020000
TZOFFSETFROM:+0100
TZOFFSETTO:+0000
TZNAME:Europe/London GMT
END:STANDARD
BEGIN:STANDARD
DTSTART:20301027T010000
RDATE:20310330T020000
TZOFFSETFROM:+0100
TZOFFSETTO:+0000
TZNAME:Europe/London GMT
END:STANDARD
BEGIN:STANDARD
DTSTART:20311026T010000
RDATE:20320328T020000
TZOFFSETFROM:+0100
TZOFFSETTO:+0000
TZNAME:Europe/London GMT
END:STANDARD
BEGIN:DAYLIGHT
DTSTART:20250516T083000
RDATE:20251026T010000
TZOFFSETFROM:+0000
TZOFFSETTO:+0100
TZNAME:Europe/London BST
END:DAYLIGHT
BEGIN:DAYLIGHT
DTSTART:20260329T020000
RDATE:20261025T010000
TZOFFSETFROM:+0000
TZOFFSETTO:+0100
TZNAME:Europe/London BST
END:DAYLIGHT
BEGIN:DAYLIGHT
DTSTART:20270328T020000
RDATE:20271031T010000
TZOFFSETFROM:+0000
TZOFFSETTO:+0100
TZNAME:Europe/London BST
END:DAYLIGHT
BEGIN:DAYLIGHT
DTSTART:20280326T020000
RDATE:20281029T010000
TZOFFSETFROM:+0000
TZOFFSETTO:+0100
TZNAME:Europe/London BST
END:DAYLIGHT
BEGIN:DAYLIGHT
DTSTART:20290325T020000
RDATE:20291028T010000
TZOFFSETFROM:+0000
TZOFFSETTO:+0100
TZNAME:Europe/London BST
END:DAYLIGHT
BEGIN:DAYLIGHT
DTSTART:20300331T020000
RDATE:20301027T010000
TZOFFSETFROM:+0000
TZOFFSETTO:+0100
TZNAME:Europe/London BST
END:DAYLIGHT
BEGIN:DAYLIGHT
DTSTART:20310330T020000
RDATE:20311026T010000
TZOFFSETFROM:+0000
TZOFFSETTO:+0100
TZNAME:Europe/London BST
END:DAYLIGHT
END:VTIMEZONE
BEGIN:VEVENT
UID:06aeddd4ec94ae4f21c36d6919df2131
CATEGORIES:Secção de Trekking
CREATED:20260108T110110
SUMMARY:Caminhada Mensal
LOCATION:.
DESCRIPTION:Realização da caminhada mensal em percursos PR ou outros e fora do Concelho
  de Valongo\n
X-ALT-DESC;FMTTYPE=text/html:<p>Realização da caminhada mensal em percursos PR ou outros e fora do Conce
 lho de Valongo</p>
CONTACT:Este endereço de email está protegido contra piratas. Necessita ativar o JavaScript para o visualizar.
				document.getElementById('cloake4d4134bb85d3b41d39f24d24aef9aec').innerHTML = '';
				var prefix = '&#109;a' + 'i&#108;' + '&#116;o';
				var path = 'hr' + 'ef' + '=';
				var addye4d4134bb85d3b41d39f24d24aef9aec = 'tr&#101;kk&#105;ng' + '&#64;';
				addye4d4134bb85d3b41d39f24d24aef9aec = addye4d4134bb85d3b41d39f24d24aef9aec + '&#97;lt&#111;r&#101;l&#101;v&#111;' + '&#46;' + '&#111;rg';
				var addy_texte4d4134bb85d3b41d39f24d24aef9aec = 'tr&#101;kk&#105;ng' + '&#64;' + '&#97;lt&#111;r&#101;l&#101;v&#111;' + '&#46;' + '&#111;rg';document.getElementById('cloake4d4134bb85d3b41d39f24d24aef9aec').innerHTML += '<a ' + path + '\'' + prefix + ':' + addye4d4134bb85d3b41d39f24d24aef9aec + '\'>'+addy_texte4d4134bb85d3b41d39f24d24aef9aec+'';
		
X-EXTRAINFO:.
DTSTAMP:20260419T193415
DTSTART;TZID=Europe/London:20260517T083000
SEQUENCE:0
TRANSP:OPAQUE
END:VEVENT
END:VCALENDAR