BEGIN:VCALENDAR
VERSION:2.0
PRODID:-//jEvents 2.0 for Joomla//EN
CALSCALE:GREGORIAN
METHOD:PUBLISH
BEGIN:VTIMEZONE
TZID:Europe/London
BEGIN:STANDARD
DTSTART:20241027T010000
RDATE:20250330T020000
TZOFFSETFROM:+0100
TZOFFSETTO:+0000
TZNAME:Europe/London GMT
END:STANDARD
BEGIN:STANDARD
DTSTART:20251026T010000
RDATE:20260329T020000
TZOFFSETFROM:+0100
TZOFFSETTO:+0000
TZNAME:Europe/London GMT
END:STANDARD
BEGIN:STANDARD
DTSTART:20261025T010000
RDATE:20270328T020000
TZOFFSETFROM:+0100
TZOFFSETTO:+0000
TZNAME:Europe/London GMT
END:STANDARD
BEGIN:STANDARD
DTSTART:20271031T010000
RDATE:20280326T020000
TZOFFSETFROM:+0100
TZOFFSETTO:+0000
TZNAME:Europe/London GMT
END:STANDARD
BEGIN:STANDARD
DTSTART:20281029T010000
RDATE:20290325T020000
TZOFFSETFROM:+0100
TZOFFSETTO:+0000
TZNAME:Europe/London GMT
END:STANDARD
BEGIN:STANDARD
DTSTART:20291028T010000
RDATE:20300331T020000
TZOFFSETFROM:+0100
TZOFFSETTO:+0000
TZNAME:Europe/London GMT
END:STANDARD
BEGIN:STANDARD
DTSTART:20301027T010000
RDATE:20310330T020000
TZOFFSETFROM:+0100
TZOFFSETTO:+0000
TZNAME:Europe/London GMT
END:STANDARD
BEGIN:STANDARD
DTSTART:20311026T010000
RDATE:20320328T020000
TZOFFSETFROM:+0100
TZOFFSETTO:+0000
TZNAME:Europe/London GMT
END:STANDARD
BEGIN:DAYLIGHT
DTSTART:20240523T140000
RDATE:20241027T010000
TZOFFSETFROM:+0000
TZOFFSETTO:+0100
TZNAME:Europe/London BST
END:DAYLIGHT
BEGIN:DAYLIGHT
DTSTART:20250330T020000
RDATE:20251026T010000
TZOFFSETFROM:+0000
TZOFFSETTO:+0100
TZNAME:Europe/London BST
END:DAYLIGHT
BEGIN:DAYLIGHT
DTSTART:20260329T020000
RDATE:20261025T010000
TZOFFSETFROM:+0000
TZOFFSETTO:+0100
TZNAME:Europe/London BST
END:DAYLIGHT
BEGIN:DAYLIGHT
DTSTART:20270328T020000
RDATE:20271031T010000
TZOFFSETFROM:+0000
TZOFFSETTO:+0100
TZNAME:Europe/London BST
END:DAYLIGHT
BEGIN:DAYLIGHT
DTSTART:20280326T020000
RDATE:20281029T010000
TZOFFSETFROM:+0000
TZOFFSETTO:+0100
TZNAME:Europe/London BST
END:DAYLIGHT
BEGIN:DAYLIGHT
DTSTART:20290325T020000
RDATE:20291028T010000
TZOFFSETFROM:+0000
TZOFFSETTO:+0100
TZNAME:Europe/London BST
END:DAYLIGHT
BEGIN:DAYLIGHT
DTSTART:20300331T020000
RDATE:20301027T010000
TZOFFSETFROM:+0000
TZOFFSETTO:+0100
TZNAME:Europe/London BST
END:DAYLIGHT
BEGIN:DAYLIGHT
DTSTART:20310330T020000
RDATE:20311026T010000
TZOFFSETFROM:+0000
TZOFFSETTO:+0100
TZNAME:Europe/London BST
END:DAYLIGHT
END:VTIMEZONE
BEGIN:VEVENT
UID:1230159410f21ec384e6424f8be5d52d
CATEGORIES:Secção de Trekking
CREATED:20250513T115533
SUMMARY:Encontros com o Parque – 8.ª edição (TREKKING)
LOCATION:Valongo
DESCRIPTION:A Associação de Municípios Parque das Serras do Porto está a preparar mais 
 uma edição dos Encontros com o Parque, que terá lugar de 21 a 24 de maio (q
 uarta a sábado). \nEste ano, este evento contará, de novo, com a colaboraçã
 o das Secções do ALTO RELEVO - Clube de Montanhismo com a dinamização de at
 ividades sob forma de mostra do potencial desportivo e ambiental.\n \nHorár
 io e ponto de encontro da atividade de trekking: 13h45 Sede do Parque das S
 erras do Porto (Rua do Padrão, 27    4440-617 Valongo)\n
X-ALT-DESC;FMTTYPE=text/html:<p>A Associação de Municípios Parque das Serras do Porto está a preparar ma
 is uma edição dos <em>Encontros com o Parque</em>, que terá lugar de 21 a 2
 4 de maio&nbsp;(quarta a sábado).&nbsp;</p><p>Este ano, este evento contará
 , de novo, com a colaboração das Secções do ALTO RELEVO - Clube de Montanhi
 smo com a dinamização de atividades sob forma de mostra do potencial despor
 tivo e ambiental.</p><p>&nbsp;</p><p>Horário e ponto de encontro da ativida
 de de trekking: 13h45 Sede do Parque das Serras do Porto (Rua do Padrão, 27
 &nbsp; &nbsp; 4440-617 Valongo)</p>
CONTACT:Este endereço de email está protegido contra piratas. Necessita ativar o JavaScript para o visualizar.
				document.getElementById('cloakaa6478027c15a849fb97b35203ef3327').innerHTML = '';
				var prefix = '&#109;a' + 'i&#108;' + '&#116;o';
				var path = 'hr' + 'ef' + '=';
				var addyaa6478027c15a849fb97b35203ef3327 = 'tr&#101;kk&#105;ng' + '&#64;';
				addyaa6478027c15a849fb97b35203ef3327 = addyaa6478027c15a849fb97b35203ef3327 + '&#97;lt&#111;r&#101;l&#101;v&#111;' + '&#46;' + '&#111;rg';
				var addy_textaa6478027c15a849fb97b35203ef3327 = 'tr&#101;kk&#105;ng' + '&#64;' + '&#97;lt&#111;r&#101;l&#101;v&#111;' + '&#46;' + '&#111;rg';document.getElementById('cloakaa6478027c15a849fb97b35203ef3327').innerHTML += '<a ' + path + '\'' + prefix + ':' + addyaa6478027c15a849fb97b35203ef3327 + '\'>'+addy_textaa6478027c15a849fb97b35203ef3327+'';
		
X-EXTRAINFO:.
DTSTAMP:20260420T145231
DTSTART;TZID=Europe/London:20250524T140000
DTEND;TZID=Europe/London:20250524T170000
SEQUENCE:0
TRANSP:OPAQUE
END:VEVENT
END:VCALENDAR