BEGIN:VCALENDAR
VERSION:2.0
PRODID:-//jEvents 2.0 for Joomla//EN
CALSCALE:GREGORIAN
METHOD:PUBLISH
BEGIN:VTIMEZONE
TZID:Europe/London
BEGIN:STANDARD
DTSTART:20241027T010000
RDATE:20250330T020000
TZOFFSETFROM:+0100
TZOFFSETTO:+0000
TZNAME:Europe/London GMT
END:STANDARD
BEGIN:STANDARD
DTSTART:20251026T010000
RDATE:20260329T020000
TZOFFSETFROM:+0100
TZOFFSETTO:+0000
TZNAME:Europe/London GMT
END:STANDARD
BEGIN:STANDARD
DTSTART:20261025T010000
RDATE:20270328T020000
TZOFFSETFROM:+0100
TZOFFSETTO:+0000
TZNAME:Europe/London GMT
END:STANDARD
BEGIN:STANDARD
DTSTART:20271031T010000
RDATE:20280326T020000
TZOFFSETFROM:+0100
TZOFFSETTO:+0000
TZNAME:Europe/London GMT
END:STANDARD
BEGIN:STANDARD
DTSTART:20281029T010000
RDATE:20290325T020000
TZOFFSETFROM:+0100
TZOFFSETTO:+0000
TZNAME:Europe/London GMT
END:STANDARD
BEGIN:STANDARD
DTSTART:20291028T010000
RDATE:20300331T020000
TZOFFSETFROM:+0100
TZOFFSETTO:+0000
TZNAME:Europe/London GMT
END:STANDARD
BEGIN:STANDARD
DTSTART:20301027T010000
RDATE:20310330T020000
TZOFFSETFROM:+0100
TZOFFSETTO:+0000
TZNAME:Europe/London GMT
END:STANDARD
BEGIN:STANDARD
DTSTART:20311026T010000
RDATE:20320328T020000
TZOFFSETFROM:+0100
TZOFFSETTO:+0000
TZNAME:Europe/London GMT
END:STANDARD
BEGIN:DAYLIGHT
DTSTART:20240523T090000
RDATE:20241027T010000
TZOFFSETFROM:+0000
TZOFFSETTO:+0100
TZNAME:Europe/London BST
END:DAYLIGHT
BEGIN:DAYLIGHT
DTSTART:20250330T020000
RDATE:20251026T010000
TZOFFSETFROM:+0000
TZOFFSETTO:+0100
TZNAME:Europe/London BST
END:DAYLIGHT
BEGIN:DAYLIGHT
DTSTART:20260329T020000
RDATE:20261025T010000
TZOFFSETFROM:+0000
TZOFFSETTO:+0100
TZNAME:Europe/London BST
END:DAYLIGHT
BEGIN:DAYLIGHT
DTSTART:20270328T020000
RDATE:20271031T010000
TZOFFSETFROM:+0000
TZOFFSETTO:+0100
TZNAME:Europe/London BST
END:DAYLIGHT
BEGIN:DAYLIGHT
DTSTART:20280326T020000
RDATE:20281029T010000
TZOFFSETFROM:+0000
TZOFFSETTO:+0100
TZNAME:Europe/London BST
END:DAYLIGHT
BEGIN:DAYLIGHT
DTSTART:20290325T020000
RDATE:20291028T010000
TZOFFSETFROM:+0000
TZOFFSETTO:+0100
TZNAME:Europe/London BST
END:DAYLIGHT
BEGIN:DAYLIGHT
DTSTART:20300331T020000
RDATE:20301027T010000
TZOFFSETFROM:+0000
TZOFFSETTO:+0100
TZNAME:Europe/London BST
END:DAYLIGHT
BEGIN:DAYLIGHT
DTSTART:20310330T020000
RDATE:20311026T010000
TZOFFSETFROM:+0000
TZOFFSETTO:+0100
TZNAME:Europe/London BST
END:DAYLIGHT
END:VTIMEZONE
BEGIN:VEVENT
UID:4a8e4e1a766fd431f5a7a773d771d6b3
CATEGORIES:Secção de Escalada
CREATED:20250513T115642
SUMMARY:Encontros com o Parque – 8.ª edição (ESCALADA)
LOCATION:Valongo
DESCRIPTION:A Associação de Municípios Parque das Serras do Porto está a preparar mais 
 uma edição dos Encontros com o Parque, que terá lugar de 21 a 24 de maio (q
 uarta a sábado). \nEste ano, este evento contará, de novo, com a colaboraçã
 o das Secções do ALTO RELEVO - Clube de Montanhismo com a dinamização de at
 ividades sob forma de mostra do potencial desportivo e ambiental.\nHorário 
 e ponto de encontro da atividade de escalada: 09h00 Parque de Estacionament
 o da Queiva - Campo\n
X-ALT-DESC;FMTTYPE=text/html:<p>A Associação de Municípios Parque das Serras do Porto está a preparar ma
 is uma edição dos <em>Encontros com o Parque</em>, que terá lugar de 21 a 2
 4 de maio&nbsp;(quarta a sábado).&nbsp;</p><p>Este ano, este evento contará
 , de novo, com a colaboração das Secções do ALTO RELEVO - Clube de Montanhi
 smo com a dinamização de atividades sob forma de mostra do potencial despor
 tivo e ambiental.</p><p>Horário e ponto de encontro da atividade de escalad
 a: 09h00 Parque de Estacionamento da Queiva - Campo</p>
CONTACT:Este endereço de email está protegido contra piratas. Necessita ativar o JavaScript para o visualizar.
				document.getElementById('cloakc263126fb7ff8b4a5f29b188d77c7d02').innerHTML = '';
				var prefix = '&#109;a' + 'i&#108;' + '&#116;o';
				var path = 'hr' + 'ef' + '=';
				var addyc263126fb7ff8b4a5f29b188d77c7d02 = '&#101;sc&#97;l&#97;d&#97;' + '&#64;';
				addyc263126fb7ff8b4a5f29b188d77c7d02 = addyc263126fb7ff8b4a5f29b188d77c7d02 + '&#97;lt&#111;r&#101;l&#101;v&#111;' + '&#46;' + '&#111;rg';
				var addy_textc263126fb7ff8b4a5f29b188d77c7d02 = '&#101;sc&#97;l&#97;d&#97;' + '&#64;' + '&#97;lt&#111;r&#101;l&#101;v&#111;' + '&#46;' + '&#111;rg';document.getElementById('cloakc263126fb7ff8b4a5f29b188d77c7d02').innerHTML += '<a ' + path + '\'' + prefix + ':' + addyc263126fb7ff8b4a5f29b188d77c7d02 + '\'>'+addy_textc263126fb7ff8b4a5f29b188d77c7d02+'';
		
X-EXTRAINFO:.
DTSTAMP:20260420T114320
DTSTART;TZID=Europe/London:20250524T090000
DTEND;TZID=Europe/London:20250524T130000
SEQUENCE:0
TRANSP:OPAQUE
END:VEVENT
END:VCALENDAR