BEGIN:VCALENDAR
VERSION:2.0
PRODID:-//jEvents 2.0 for Joomla//EN
CALSCALE:GREGORIAN
METHOD:PUBLISH
BEGIN:VTIMEZONE
TZID:Europe/London
BEGIN:STANDARD
DTSTART:20250203T213000
RDATE:20250330T020000
TZOFFSETFROM:+0100
TZOFFSETTO:+0000
TZNAME:Europe/London GMT
END:STANDARD
BEGIN:STANDARD
DTSTART:20251026T010000
RDATE:20260329T020000
TZOFFSETFROM:+0100
TZOFFSETTO:+0000
TZNAME:Europe/London GMT
END:STANDARD
BEGIN:STANDARD
DTSTART:20261025T010000
RDATE:20270328T020000
TZOFFSETFROM:+0100
TZOFFSETTO:+0000
TZNAME:Europe/London GMT
END:STANDARD
BEGIN:STANDARD
DTSTART:20271031T010000
RDATE:20280326T020000
TZOFFSETFROM:+0100
TZOFFSETTO:+0000
TZNAME:Europe/London GMT
END:STANDARD
BEGIN:STANDARD
DTSTART:20281029T010000
RDATE:20290325T020000
TZOFFSETFROM:+0100
TZOFFSETTO:+0000
TZNAME:Europe/London GMT
END:STANDARD
BEGIN:STANDARD
DTSTART:20291028T010000
RDATE:20300331T020000
TZOFFSETFROM:+0100
TZOFFSETTO:+0000
TZNAME:Europe/London GMT
END:STANDARD
BEGIN:STANDARD
DTSTART:20301027T010000
RDATE:20310330T020000
TZOFFSETFROM:+0100
TZOFFSETTO:+0000
TZNAME:Europe/London GMT
END:STANDARD
BEGIN:STANDARD
DTSTART:20311026T010000
RDATE:20320328T020000
TZOFFSETFROM:+0100
TZOFFSETTO:+0000
TZNAME:Europe/London GMT
END:STANDARD
BEGIN:DAYLIGHT
DTSTART:20250330T020000
RDATE:20251026T010000
TZOFFSETFROM:+0000
TZOFFSETTO:+0100
TZNAME:Europe/London BST
END:DAYLIGHT
BEGIN:DAYLIGHT
DTSTART:20260329T020000
RDATE:20261025T010000
TZOFFSETFROM:+0000
TZOFFSETTO:+0100
TZNAME:Europe/London BST
END:DAYLIGHT
BEGIN:DAYLIGHT
DTSTART:20270328T020000
RDATE:20271031T010000
TZOFFSETFROM:+0000
TZOFFSETTO:+0100
TZNAME:Europe/London BST
END:DAYLIGHT
BEGIN:DAYLIGHT
DTSTART:20280326T020000
RDATE:20281029T010000
TZOFFSETFROM:+0000
TZOFFSETTO:+0100
TZNAME:Europe/London BST
END:DAYLIGHT
BEGIN:DAYLIGHT
DTSTART:20290325T020000
RDATE:20291028T010000
TZOFFSETFROM:+0000
TZOFFSETTO:+0100
TZNAME:Europe/London BST
END:DAYLIGHT
BEGIN:DAYLIGHT
DTSTART:20300331T020000
RDATE:20301027T010000
TZOFFSETFROM:+0000
TZOFFSETTO:+0100
TZNAME:Europe/London BST
END:DAYLIGHT
BEGIN:DAYLIGHT
DTSTART:20310330T020000
RDATE:20311026T010000
TZOFFSETFROM:+0000
TZOFFSETTO:+0100
TZNAME:Europe/London BST
END:DAYLIGHT
END:VTIMEZONE
BEGIN:VEVENT
UID:0333d682019600ff631bd702097973e9
CATEGORIES:Secção de Espeleologia
CREATED:20260108T105029
SUMMARY:Treinos de Técnica de Progressão Vertical em Pavilhão
LOCATION:Pavilhão Gimnodesportivo de Campo (1)
DESCRIPTION:Treinos de progressão em corda tendo por base as técnicas usadas em espeleo
 logia.\n
X-ALT-DESC;FMTTYPE=text/html:<p>Treinos de progressão em corda tendo por base as técnicas usadas em espe
 leologia.</p>
CONTACT:Este endereço de email está protegido contra piratas. Necessita ativar o JavaScript para o visualizar.
				document.getElementById('cloak1651b895e250b68d0386af4360fac1d0').innerHTML = '';
				var prefix = '&#109;a' + 'i&#108;' + '&#116;o';
				var path = 'hr' + 'ef' + '=';
				var addy1651b895e250b68d0386af4360fac1d0 = '&#101;sp&#101;l&#101;&#111;l&#111;g&#105;&#97;' + '&#64;';
				addy1651b895e250b68d0386af4360fac1d0 = addy1651b895e250b68d0386af4360fac1d0 + '&#97;lt&#111;rl&#101;v&#111;' + '&#46;' + '&#111;rg';
				var addy_text1651b895e250b68d0386af4360fac1d0 = '&#101;sp&#101;l&#101;&#111;l&#111;g&#105;&#97;' + '&#64;' + '&#97;lt&#111;rl&#101;v&#111;' + '&#46;' + '&#111;rg';document.getElementById('cloak1651b895e250b68d0386af4360fac1d0').innerHTML += '<a ' + path + '\'' + prefix + ':' + addy1651b895e250b68d0386af4360fac1d0 + '\'>'+addy_text1651b895e250b68d0386af4360fac1d0+'';
		
X-EXTRAINFO:.
DTSTAMP:20260419T200435
DTSTART;TZID=Europe/London:20260204T213000
DTEND;TZID=Europe/London:20260204T230000
SEQUENCE:0
TRANSP:OPAQUE
END:VEVENT
END:VCALENDAR